BEGIN:VCALENDAR
VERSION:2.0
PRODID:-//Iñaki Cárcamo - ECPv6.15.20//NONSGML v1.0//EN
CALSCALE:GREGORIAN
METHOD:PUBLISH
X-WR-CALNAME:Iñaki Cárcamo
X-ORIGINAL-URL:https://icarcamo.com
X-WR-CALDESC:Eventos para Iñaki Cárcamo
REFRESH-INTERVAL;VALUE=DURATION:PT1H
X-Robots-Tag:noindex
X-PUBLISHED-TTL:PT1H
BEGIN:VTIMEZONE
TZID:Europe/Madrid
BEGIN:DAYLIGHT
TZOFFSETFROM:+0100
TZOFFSETTO:+0200
TZNAME:CEST
DTSTART:20220327T010000
END:DAYLIGHT
BEGIN:STANDARD
TZOFFSETFROM:+0200
TZOFFSETTO:+0100
TZNAME:CET
DTSTART:20221030T010000
END:STANDARD
BEGIN:DAYLIGHT
TZOFFSETFROM:+0100
TZOFFSETTO:+0200
TZNAME:CEST
DTSTART:20230326T010000
END:DAYLIGHT
BEGIN:STANDARD
TZOFFSETFROM:+0200
TZOFFSETTO:+0100
TZNAME:CET
DTSTART:20231029T010000
END:STANDARD
BEGIN:DAYLIGHT
TZOFFSETFROM:+0100
TZOFFSETTO:+0200
TZNAME:CEST
DTSTART:20240331T010000
END:DAYLIGHT
BEGIN:STANDARD
TZOFFSETFROM:+0200
TZOFFSETTO:+0100
TZNAME:CET
DTSTART:20241027T010000
END:STANDARD
END:VTIMEZONE
BEGIN:VEVENT
DTSTART;TZID=Europe/Madrid:20231122T200000
DTEND;TZID=Europe/Madrid:20231122T210000
DTSTAMP:20260419T233353
CREATED:20231026T083156Z
LAST-MODIFIED:20231121T083845Z
UID:11651-1700683200-1700686800@icarcamo.com
SUMMARY:Concierto Santa Cecilia 2023
DESCRIPTION:PROGRAMA CONCIERTO SANTA CECILIA 2023\n22 de Noviembre 2023\nSan Martín Obispo (Reparadoras) \nDESCARGAR CARTEL (PDF) \n  \nCORAL AITA GARAYOA\nHALLELUJAH – L. Cohen\nREQUIEM – Eliza Gilkyson\nMAY IT BE – Arr.: Mark Brymer\nMAE-E – Kentaro Sato\nSanctus de la Gospel Mass – R. Ray\nAgnus Dei de la Gospel Mass – R. Ray \n  \nCORAL ALAIA (ONCE)\nHabanera – Xabier Lete\nLa niña del Marianao\nLa Paloma – Iradier\nHabanera de Don Gil de Alcalá\nLa Reina del placer – Alain Langrée\nParte Vieja Donostiarra – Pedro Ugalde \nGuitarrista: Pedro González \nCORAL ALAIA Y CORAL AITA GARAYOA\nPeio Joxepe
URL:https://icarcamo.com/event/concierto-santa-cecilia-2023/
LOCATION:Parroquia De San Martín Obispo (Reparadoras)\, Easo kalea\, 20\, San Sebastián\, Gipuzkoa\, 20007\, España
CATEGORIES:Aita Garayoa,Alaia
ATTACH;FMTTYPE=image/jpeg:https://icarcamo.com/wp-content/uploads/santa-cecilia-2023-WEB.jpg
END:VEVENT
END:VCALENDAR