BEGIN:VCALENDAR
VERSION:2.0
PRODID:-//Iñaki Cárcamo - ECPv6.15.20//NONSGML v1.0//EN
CALSCALE:GREGORIAN
METHOD:PUBLISH
X-WR-CALNAME:Iñaki Cárcamo
X-ORIGINAL-URL:https://icarcamo.com
X-WR-CALDESC:Eventos para Iñaki Cárcamo
REFRESH-INTERVAL;VALUE=DURATION:PT1H
X-Robots-Tag:noindex
X-PUBLISHED-TTL:PT1H
BEGIN:VTIMEZONE
TZID:Europe/Madrid
BEGIN:DAYLIGHT
TZOFFSETFROM:+0100
TZOFFSETTO:+0200
TZNAME:CEST
DTSTART:20220327T010000
END:DAYLIGHT
BEGIN:STANDARD
TZOFFSETFROM:+0200
TZOFFSETTO:+0100
TZNAME:CET
DTSTART:20221030T010000
END:STANDARD
BEGIN:DAYLIGHT
TZOFFSETFROM:+0100
TZOFFSETTO:+0200
TZNAME:CEST
DTSTART:20230326T010000
END:DAYLIGHT
BEGIN:STANDARD
TZOFFSETFROM:+0200
TZOFFSETTO:+0100
TZNAME:CET
DTSTART:20231029T010000
END:STANDARD
BEGIN:DAYLIGHT
TZOFFSETFROM:+0100
TZOFFSETTO:+0200
TZNAME:CEST
DTSTART:20240331T010000
END:DAYLIGHT
BEGIN:STANDARD
TZOFFSETFROM:+0200
TZOFFSETTO:+0100
TZNAME:CET
DTSTART:20241027T010000
END:STANDARD
END:VTIMEZONE
BEGIN:VEVENT
DTSTART;TZID=Europe/Madrid:20231117T200000
DTEND;TZID=Europe/Madrid:20231117T200000
DTSTAMP:20260421T211255
CREATED:20230912T161402Z
LAST-MODIFIED:20231031T140719Z
UID:11587-1700251200-1700251200@icarcamo.com
SUMMARY:dos-i taldea en Errenteria
DESCRIPTION:Concierto de dos-i taldea en la Basílica de la Madalena en Errentería. \nNORDIKA\nHarlig ar jorden\nJul\, jul\, stralande Jul\nSommarpsalm – W. Ahlen\nDen Blomstertid nu kommer\nO Magnum Mysterium – M. Lauridsen\nStemning – Wilhelm Peterson Berger\nUti var hage\nSoneto de la Noche – M. Lauridsen\nGota \nSECHS LIEDER\, Op. 41 Felix Mendelssohn\nIm Walde\, Op. 41\, No. 1\nEntflieh’ mit mir\, Op. 41\, No. 2\nEs fiel ein Reif\, Op. 41\, No. 3\nAuf ihrem Grab\, Op. 41\, No. 4\nMailied\, Op. 41\, No. 5\nAuf dem See\, Op. 41\, No. 6
URL:https://icarcamo.com/event/dos-i-taldea-en-errenteria/
LOCATION:Basílica de peregrinos María Magdalena – Rentería\, Calle María de Lezo 8\, Renteria\, Gipuzkoa\, 20100\, España
CATEGORIES:dos-i taldea
ATTACH;FMTTYPE=image/jpeg:https://icarcamo.com/wp-content/uploads/NORDIKA-ERRENTERIA-600.jpg
END:VEVENT
BEGIN:VEVENT
DTSTART;TZID=Europe/Madrid:20231118T183000
DTEND;TZID=Europe/Madrid:20231118T193000
DTSTAMP:20260421T211255
CREATED:20231023T115325Z
LAST-MODIFIED:20231031T140750Z
UID:11635-1700332200-1700335800@icarcamo.com
SUMMARY:dos-i taldea Asteasunen kontzertua
DESCRIPTION:Dos-i taldea Asteasunen kontzertua. \nNORDIKA\nHarlig ar jorden\nJul\, jul\, stralande Jul\nSommarpsalm – W. Ahlen\nDen Blomstertid nu kommer\nO Magnum Mysterium – M. Lauridsen\nStemning – Wilhelm Peterson Berger\nUti var hage\nSoneto de la Noche – M. Lauridsen\nGota \nSECHS LIEDER\, Op. 41 Felix Mendelssohn\nIm Walde\, Op. 41\, No. 1\nEntflieh’ mit mir\, Op. 41\, No. 2\nEs fiel ein Reif\, Op. 41\, No. 3\nAuf ihrem Grab\, Op. 41\, No. 4\nMailied\, Op. 41\, No. 5\nAuf dem See\, Op. 41\, No. 6 \n 
URL:https://icarcamo.com/event/dos-i-taldea-asteasunen-kontzertua/
LOCATION:Sta. Kruz Ermita – Elizmendi auzoa – Asteasu\, Vial Camino Elizmendi\, 195\, Elizmendi\,\, Asteasu\, Gipuzkoa\, 20159\, España
CATEGORIES:dos-i taldea
ATTACH;FMTTYPE=image/jpeg:https://icarcamo.com/wp-content/uploads/ASTEASU-NORDIKA-web.jpg
END:VEVENT
END:VCALENDAR