BEGIN:VCALENDAR
VERSION:2.0
PRODID:-//Iñaki Cárcamo - ECPv6.15.20//NONSGML v1.0//EN
CALSCALE:GREGORIAN
METHOD:PUBLISH
X-WR-CALNAME:Iñaki Cárcamo
X-ORIGINAL-URL:https://icarcamo.com
X-WR-CALDESC:Eventos para Iñaki Cárcamo
REFRESH-INTERVAL;VALUE=DURATION:PT1H
X-Robots-Tag:noindex
X-PUBLISHED-TTL:PT1H
BEGIN:VTIMEZONE
TZID:Europe/Madrid
BEGIN:DAYLIGHT
TZOFFSETFROM:+0100
TZOFFSETTO:+0200
TZNAME:CEST
DTSTART:20230326T010000
END:DAYLIGHT
BEGIN:STANDARD
TZOFFSETFROM:+0200
TZOFFSETTO:+0100
TZNAME:CET
DTSTART:20231029T010000
END:STANDARD
BEGIN:DAYLIGHT
TZOFFSETFROM:+0100
TZOFFSETTO:+0200
TZNAME:CEST
DTSTART:20240331T010000
END:DAYLIGHT
BEGIN:STANDARD
TZOFFSETFROM:+0200
TZOFFSETTO:+0100
TZNAME:CET
DTSTART:20241027T010000
END:STANDARD
BEGIN:DAYLIGHT
TZOFFSETFROM:+0100
TZOFFSETTO:+0200
TZNAME:CEST
DTSTART:20250330T010000
END:DAYLIGHT
BEGIN:STANDARD
TZOFFSETFROM:+0200
TZOFFSETTO:+0100
TZNAME:CET
DTSTART:20251026T010000
END:STANDARD
END:VTIMEZONE
BEGIN:VEVENT
DTSTART;TZID=Europe/Madrid:20241203T170000
DTEND;TZID=Europe/Madrid:20241203T180000
DTSTAMP:20260422T202112
CREATED:20241107T080723Z
LAST-MODIFIED:20241117T170830Z
UID:12457-1733245200-1733248800@icarcamo.com
SUMMARY:Nao Etxea Abesbatza en Residencia Alai Etxe
DESCRIPTION:Concierto del Coro de la Asociación Nao Etxea en la Residencia de Mayores Alai Etxe. \nPrograma\nLas mañanitas\nHaurtxo polita\nEn mi viejo San Juan\nXalbadorren heriotzean\nLa paloma\nGoizian argi hastian\nNegra sombra\nMi viejo amor\nMaitia nun zira?\nRonda de enamorados (La del soto del parral)\nCoro de Doctores (El Rey que rabió)\nJoxe Migelen Batela
URL:https://icarcamo.com/event/nao-etxea-abesbatza-en-residencia-alai-etxe/
LOCATION:Residencia Alai-etxe\, Luis Pradera Kalea\, 43\, San Sebastián\, Guipúzcoa\, 20015\, España
ATTACH;FMTTYPE=image/jpeg:https://icarcamo.com/wp-content/uploads/NAO-ETXEA1_600.jpg
END:VEVENT
BEGIN:VEVENT
DTSTART;TZID=Europe/Madrid:20241210T170000
DTEND;TZID=Europe/Madrid:20241210T180000
DTSTAMP:20260422T202112
CREATED:20241107T083622Z
LAST-MODIFIED:20241122T083017Z
UID:12473-1733850000-1733853600@icarcamo.com
SUMMARY:Nao Etxea Abesbatza en Residencia Berra
DESCRIPTION:El Coro Nao Etxea de Alza ofrecerá un concierto en la Residencia de Mayores Berra (Alza) \nPROGRAMA:\n\nLas mañanitas\nHaurtxo polita\nEn mi viejo San Juan\nXalbadorren heriotzean\nLa paloma\nGoizian argi hastian\nNegra sombra\nMi viejo amor\nMaitia nun zira?\nHorra Mari Domingi\nHator\, hator\nAdeste Fideles\nNoel\, noel\nHaurtxo maite\nBlanca Navidad
URL:https://icarcamo.com/event/nao-etxea-abesbatza-en-residencia-berra/
LOCATION:Residencia DomusVi | Berra – Alza\, Berratxo Bidea\, 2\, San Sebastián\, Guipúzcoa\, 20017\, España
ATTACH;FMTTYPE=image/jpeg:https://icarcamo.com/wp-content/uploads/NAO-ETXEA-2_600.jpg
END:VEVENT
BEGIN:VEVENT
DTSTART;TZID=Europe/Madrid:20241219T110000
DTEND;TZID=Europe/Madrid:20241219T120000
DTSTAMP:20260422T202112
CREATED:20241117T174439Z
LAST-MODIFIED:20241218T070120Z
UID:12541-1734606000-1734609600@icarcamo.com
SUMMARY:Nao Etxea en San Markosene
DESCRIPTION:PROGRAMA:\n\n Las mañanitas\nHaurtxo polita\nEn mi viejo San Juan\nXalbadorren heriotzean\nLa paloma\nGoizian argi hastian\nNegra sombra\nMi viejo amor\nMaitia nun zira?\nHorra Mari Domingi\nHator\, hator\nAdeste Fideles\nNoel\, noel\nHaurtxo maite\nBlanca Navidad
URL:https://icarcamo.com/event/nao-etxea-en-san-markosene/
LOCATION:San Markosene Egoitza\, Carretera de San Marcos\, s/n\, Errenteria\, Guipúzcoa\, 20100\, España
ATTACH;FMTTYPE=image/jpeg:https://icarcamo.com/wp-content/uploads/NAO-ETXEA1_600.jpg
END:VEVENT
END:VCALENDAR