BEGIN:VCALENDAR
VERSION:2.0
PRODID:-//Iñaki Cárcamo - ECPv6.15.20//NONSGML v1.0//EN
CALSCALE:GREGORIAN
METHOD:PUBLISH
X-ORIGINAL-URL:https://icarcamo.com
X-WR-CALDESC:Eventos para Iñaki Cárcamo
REFRESH-INTERVAL;VALUE=DURATION:PT1H
X-Robots-Tag:noindex
X-PUBLISHED-TTL:PT1H
BEGIN:VTIMEZONE
TZID:Europe/Madrid
BEGIN:DAYLIGHT
TZOFFSETFROM:+0100
TZOFFSETTO:+0200
TZNAME:CEST
DTSTART:20240331T010000
END:DAYLIGHT
BEGIN:STANDARD
TZOFFSETFROM:+0200
TZOFFSETTO:+0100
TZNAME:CET
DTSTART:20241027T010000
END:STANDARD
BEGIN:DAYLIGHT
TZOFFSETFROM:+0100
TZOFFSETTO:+0200
TZNAME:CEST
DTSTART:20250330T010000
END:DAYLIGHT
BEGIN:STANDARD
TZOFFSETFROM:+0200
TZOFFSETTO:+0100
TZNAME:CET
DTSTART:20251026T010000
END:STANDARD
BEGIN:DAYLIGHT
TZOFFSETFROM:+0100
TZOFFSETTO:+0200
TZNAME:CEST
DTSTART:20260329T010000
END:DAYLIGHT
BEGIN:STANDARD
TZOFFSETFROM:+0200
TZOFFSETTO:+0100
TZNAME:CET
DTSTART:20261025T010000
END:STANDARD
END:VTIMEZONE
BEGIN:VEVENT
DTSTART;TZID=Europe/Madrid:20250506T171500
DTEND;TZID=Europe/Madrid:20250506T181500
DTSTAMP:20260422T015415
CREATED:20250430T060055Z
LAST-MODIFIED:20250430T060055Z
UID:12839-1746551700-1746555300@icarcamo.com
SUMMARY:Coro Nao Etxea en Zorroaga
DESCRIPTION:El coro de Alza Nao Etxea Abesbatza ofrecerá un concierto en la Residencia Zorroaga de Donostia. Será el 6 de mayo de 2025\, a las 17:15 hs.
URL:https://icarcamo.com/event/coro-nao-etxea-en-zorroaga/
LOCATION:Residencia Zorroaga\, Alto Zorroaga-Zorroagagaina Kalea\, 1\, San Sebastián\, Gipuzkoa\, 20014\, España
ATTACH;FMTTYPE=image/jpeg:https://icarcamo.com/wp-content/uploads/nao-etxea-2025-600.jpg
END:VEVENT
END:VCALENDAR