BEGIN:VCALENDAR
VERSION:2.0
PRODID:-//Iñaki Cárcamo - ECPv6.15.20//NONSGML v1.0//EN
CALSCALE:GREGORIAN
METHOD:PUBLISH
X-WR-CALNAME:Iñaki Cárcamo
X-ORIGINAL-URL:https://icarcamo.com
X-WR-CALDESC:Eventos para Iñaki Cárcamo
REFRESH-INTERVAL;VALUE=DURATION:PT1H
X-Robots-Tag:noindex
X-PUBLISHED-TTL:PT1H
BEGIN:VTIMEZONE
TZID:Europe/Madrid
BEGIN:DAYLIGHT
TZOFFSETFROM:+0100
TZOFFSETTO:+0200
TZNAME:CEST
DTSTART:20230326T010000
END:DAYLIGHT
BEGIN:STANDARD
TZOFFSETFROM:+0200
TZOFFSETTO:+0100
TZNAME:CET
DTSTART:20231029T010000
END:STANDARD
BEGIN:DAYLIGHT
TZOFFSETFROM:+0100
TZOFFSETTO:+0200
TZNAME:CEST
DTSTART:20240331T010000
END:DAYLIGHT
BEGIN:STANDARD
TZOFFSETFROM:+0200
TZOFFSETTO:+0100
TZNAME:CET
DTSTART:20241027T010000
END:STANDARD
BEGIN:DAYLIGHT
TZOFFSETFROM:+0100
TZOFFSETTO:+0200
TZNAME:CEST
DTSTART:20250330T010000
END:DAYLIGHT
BEGIN:STANDARD
TZOFFSETFROM:+0200
TZOFFSETTO:+0100
TZNAME:CET
DTSTART:20251026T010000
END:STANDARD
END:VTIMEZONE
BEGIN:VEVENT
DTSTART;TZID=Europe/Madrid:20240419T110000
DTEND;TZID=Europe/Madrid:20240419T120000
DTSTAMP:20260420T000639
CREATED:20240418T083949Z
LAST-MODIFIED:20240419T120411Z
UID:11997-1713524400-1713528000@icarcamo.com
SUMMARY:Kantu Jira Santa Barbara taldea en Berra
DESCRIPTION:Concierto del grupo de Kantu Jira Santa Barbara de Alza en la residencia Berra de Alza. \n  \nPrograma: \nMendian Gora\nAi\, zer plazerra\nHaurtxo polita\nXalbadorren heriotzean\nAzken dantza\nBagare\nEuskalherrian euskaraz\nMaritxu\, nora zoaz?\nPeio Joxepe\nHabanera\, Lete\nAgur Zuberoa\nKontrapas\nAnttoni eta Antton\nErribera\nAita Semeak\nJoxe Miguelen batela
URL:https://icarcamo.com/event/kantu-jira-santa-barbara-taldea-en-berra/
LOCATION:Residencia DomusVi | Berra – Alza\, Berratxo Bidea\, 2\, San Sebastián\, Guipúzcoa\, 20017\, España
ATTACH;FMTTYPE=image/jpeg:https://icarcamo.com/wp-content/uploads/santa-barbara-en-berra.jpg
END:VEVENT
END:VCALENDAR